Workbook

Sheet TEAMS
D1: PARTICIPATING GOLF CLUBS
A2: Only enter in yellow spaces. Copy players from team sheet to each Team box, then enter the club name in the appropriate spaces provided. IE: Enter Exeter team sheet in Team One Box then change yellow Team One name to Exeter, etc. etc. | D2: 1 | E2: Dainton | H2: 7 | I2: Woodbury | L2: 13 | M2: Tavistock
D3: 2 | E3: Churston | H3: 8 | I3: Thurleston | L3: 14 | M3: Honiton
D4: 3 | E4: Teignmouth | H4: 9 | I4: Bigbury | L4: 15 | M4: Bovey Castle
D5: 4 | E5: Dartmouth | H5: 10 | I5: Crediton | L5: 16 | M5: Tiverton
D6: 5 | E6: Bovey Tracey | H6: 11 | I6: Staddon Heights | L6: 17 | M6: Exeter
D7: 6 | E7: East Devon | H7: 12 | I7: Yelverton
A10: =E2 -> Dainton | E10: =E3 -> Churston | I10: =E4 -> Teignmouth | M10: =E5 -> Dartmouth
A11: Name | B11: Handicap | C11: CDH ID | E11: Name | F11: Handicap | G11: CDH ID | I11: Name | J11: Handicap | K11: CDH ID | M11: Name | N11: Handicap | O11: CDH ID
A12: Derrick Singleton | B12: 18.5 | C12: 1011563690 | E12: Garry White | F12: 11.1 | G12: 1014382551 | I12: John Richardson | J12: 16.2 | K12: 1013426847 | M12: Trevor Pretty | N12: 19.2 | O12: 1007514129
A13: Patrick Hastings | B13: 16.7 | C13: 1013824273 | E13: Gary Chadwick | F13: 8.7 | G13: 1012855695 | I13: Keith Perkin | J13: 13.1 | K13: 1005460332 | M13: Nigel Osborne | N13: 23.7 | O13: 1014684426
A14: Mike Lang | B14: 8.1 | C14: 1013288455 | E14: Clive Legg | F14: 7.9 | G14: 1003494252 | I14: Robert Collier | J14: 10.4 | K14: 1005459512 | M14: Paul Marels | N14: 7.4 | O14: 1003658260
A15: Andy Smith | B15: 13 | C15: 1012729368 | E15: Royston Fox | F15: 16.7 | G15: 1007144789 | I15: Derrick King | J15: 12.1 | K15: 1005456170 | M15: Malcolm Barrett | N15: 15.8 | O15: 1003616579
A16: David Allott | B16: 10.8 | C16: 1017950940 | E16: Jamie Bullen | F16: 12.4 | G16: 1014089148 | I16: Darin Pound | J16: 13.7 | K16: 1012431681 | M16: John Oldrieve | N16: 7.5 | O16: 1013820194
A17: Colin Flanagan | B17: 12.1 | C17: 1014374121 | E17: Brian Buckle | F17: 23 | G17: 1001093434 | I17: Simon Beasley | J17: 9.4 | K17: 1005454898 | M17: Andy Dix | N17: 12.1 | O17: 1003630541
A18: James Lavelle | B18: 8.1 | C18: 1004792237 | E18: Gareth Jones | F18: 7.4 | G18: 1010552841 | I18: Gerardo Nardiello | J18: 8.5 | K18: 1016307749 | M18: Mario Aresti | N18: 8.2 | O18: 1005236254
A19: Steve Johnson | B19: 11.6 | C19: 1011576702 | E19: Andrew Griffin | F19: 10.2 | G19: 1001094775 | I19: Kevin Hewings | J19: 16.3 | K19: 1008979894 | M19: David Sparks | N19: 12.5 | O19: 1012980363
A21: =E6 -> Bovey Tracey | E21: =E7 -> East Devon | I21: =I2 -> Woodbury | M21: =I3 -> Thurleston
A22: Name | B22: Handicap | C22: CDH ID | E22: Name | F22: Handicap | G22: CDH ID | I22: Name | J22: Handicap | K22: CDH ID | M22: Name | N22: Handicap | O22: CDH ID
A23: NIGEL MILLMAN | B23: 16 | C23: 1013950605 | E23: Bovey to 10:03 | I23: John Man | J23: 21 | K23: 1005598334 | M23: Jim Stewart | N23: 9.2 | O23: 1003804591
A24: PAUL NOSWORTHY | B24: 17.2 | C24: 1014632840 | E24: Bovey to 10:03 | I24: Phil Harvey | J24: 18.9 | K24: 1014424238 | M24: Simon Davey | N24: 9.7 | O24: 1002867689
A25: GARY RUTTER | B25: 14.7 | C25: 1015433947 | E25: NIGEL MILLMAN from 8:23 | I25: Jeff Perry | J25: 17.5 | K25: 1014276521 | M25: Graham Fairley | N25: 8.7 | O25: 1001389815
A26: MARTYN SQUIRES | B26: 15.8 | C26: 1006987245 | E26: PAUL NOSWORTHY from 8:23 | I26: Dave Buss | J26: 15.7 | K26: 1011615451 | M26: David Hook | N26: 13.1 | O26: 1018639068
A27: RICHARD WARD | B27: 17.3 | C27: 1013215792 | E27: Bovey to 12:36 | I27: Paul Wright | J27: 5.6 | K27: 1005598685 | M27: John Rogers | N27: 11.5 | O27: 1003907819
A28: JIM DONAVON | B28: 17.6 | C28: 1014344687 | E28: Bovey to 12:36 | I28: Graham Murray | J28: 9.5 | K28: 1007313336 | M28: Martin Oakes -Monger | N28: 15.7 | O28: 1010910359
A29: JIM LARKIN | B29: 13 | C29: 1007932079 | E29: RICHARD WARD from 11:15 | I29: Ian Murphy | J29: 13.9 | K29: 1018883309 | M29: Peter Basten | N29: 10.4 | O29: 1004237833
A30: SCOTT TOMLINSON | B30: 17.5 | C30: 1016532592 | E30: JIM DONAVON from 11:15 | I30: Steve Thompson | J30: 5.9 | K30: 1002758177 | M30: Mike Allen | N30: 24.2 | O30: 1007929770
A32: =I4 -> Bigbury | E32: =I5 -> Crediton | I32: =I6 -> Staddon Heights | M32: =I7 -> Yelverton
A33: Name | B33: Handicap | C33: CDH ID | E33: Name | F33: Handicap | G33: CDH ID | I33: Name | J33: Handicap | K33: CDH ID | M33: Name | N33: Handicap | O33: CDH ID
A34: Steve Ryder | B34: 7.6 | C34: 1003802062 | E34: Andy Rogers | F34: 16.9 | G34: 1013574907 | I34: Andy Griffiths | J34: 5.6 | K34: 1001723624 | M34: Blaber, Kevin | N34: 4.1 | O34: 1003033214
A35: Roger Hurrell | B35: 10.5 | C35: 1003802036 | E35: Gerry Hodder | F35: 15.5 | G35: 1001226015 | I35: Gary Chapman | J35: 13.7 | K35: 1001785573 | M35: Peter Wright | N35: 23.5 | O35: 1012574301
A36: Keith Naylor | B36: 8.8 | C36: 1013694194 | E36: Jim Dunlop | F36: 11.3 | G36: 1012478829 | I36: Nigel Keeler | J36: 8.9 | K36: 1001782930 | M36: James, David | N36: 7.9 | O36: 1011142014
A37: Roger Edwards | B37: 12.9 | C37: 1015185942 | E37: Robin Abrahams | F37: 13.4 | G37: 1001223318 | I37: Dave Henry | J37: 11.1 | K37: 1017520392 | M37: Paul Woods | N37: 16.2 | O37: 1003039186
A38: Neil Edwards | B38: 10.3 | C38: 1003802516 | E38: Richard Lloyd | F38: 12.3 | G38: 1019657473 | I38: Len Hirst | J38: 13.1 | K38: 1001781242 | M38: Norris Kevin | N38: 11 | O38: 1003036960
A39: Nick Hanbury | B39: 16.6 | C39: 1003806766 | E39: Clive Edmunds | F39: 18.7 | G39: 1019300247 | I39: Mike Mahoney | J39: 14.3 | K39: 1001786875 | M39: John Chapman | N39: 13.7 | O39: 1003033752
A40: Jason Holtom | B40: 13 | C40: 1012518953 | E40: Steve Hardes | F40: 18.4 | G40: 1015981503 | I40: Alan Galyer | J40: 6.4 | K40: 1015716521 | M40: Newman, Brian | N40: 11.2 | O40: 1002847928
A41: Howard Simons | B41: 17.5 | C41: 1005644606 | E41: David Cousins | F41: 22.5 | G41: 1001223935 | I41: Paul Chapman | J41: 17 | K41: 1006318700 | M41: Price, Richard | N41: 14.9 | O41: 1003037526
A43: =M2 -> Tavistock | E43: =M3 -> Honiton | I43: =M4 -> Bovey Castle | M43: =M5 -> Tiverton
A44: Name | B44: Handicap | C44: CDH ID | E44: Name | F44: Handicap | G44: CDH ID | I44: Name | J44: Handicap | K44: CDH ID | M44: Name | N44: Handicap | O44: CDH ID
A45: Trevor Smith | B45: 14.6 | C45: 1014753405 | E45: Brian Thompson | F45: 12.2 | G45: 1001803560 | I45: Neville Wilkinson | J45: 15.6 | K45: 1005847539 | M45: Ray Pratt | N45: 13.7 | O45: 1000380266
...

Sheet TEES
B3: TORQUAY GOLF CLUB | E3: Slope Rating | G3: 114 | J3: SDSL JAMBOREE DAY
E4: Course Rating | G4: 67.1
E5: Course Par | G5: 68
E6: Tees | G6: Yellow
E7: Playing Handicap Allowance | G7: 0.85 | K7: 24th September 2026
E8: Start Time | G8: 0.35
E9: Slot Time (Minutes) | G9: 9
B11: Club | D11: Score | E11: Club | G11: Score | J11: Club | L11: Score | M11: Club | O11: Score
B12: =TEAMS!E2 -> Dainton | D12: =SUM(H18+P34+H52+P68) -> 162 | E12: =TEAMS!E6 -> Bovey Tracey | G12: =SUM(H22+P38+H56+P72) -> 157 | J12: =TEAMS!I4 -> Bigbury | L12: =SUM(H26+P42+H60+P76) -> 149 | M12: =TEAMS!M2 -> Tavistock | O12: =SUM(H30+P46+H64+P80) -> 149
B13: =TEAMS!E3 -> Churston | D13: =SUM(P18+H36+P52+H70) -> 150 | E13: =TEAMS!E7 -> East Devon | G13: =SUM(P22+H40+P56+H74) -> 0 | J13: =TEAMS!I5 -> Crediton | L13: =SUM(P26+H44+P60+H78) -> 147 | M13: =TEAMS!M3 -> Honiton | O13: =SUM(P30+H48+P64+H82) -> 147
B14: =TEAMS!E4 -> Teignmouth | D14: =SUM(H20+P36+H54+P70) -> 152 | E14: =TEAMS!I2 -> Woodbury | G14: =SUM(H24+P40+H58+P74) -> 145 | J14: =TEAMS!I6 -> Staddon Heights | L14: =SUM(H28+P44+H62+P78) -> 149 | M14: =TEAMS!M4 -> Bovey Castle | O14: =SUM(H32+P48+H66+P82) -> 164 | Q14: WINNERS
B15: =TEAMS!E5 -> Dartmouth | D15: =SUM(P20+H38+P54+H72) -> 145 | E15: =TEAMS!I3 -> Thurleston | G15: =SUM(P24+H42+P58+H76) -> 142 | J15: =TEAMS!I7 -> Yelverton | L15: =SUM(P28+H46+P62+H80) -> 145 | M15: =TEAMS!M5 -> Tiverton | O15: =SUM(P32+H50+P66+H84) -> 153
M16: =TEAMS!M6 -> Exeter | O16: =SUM(H34+P50+H68+P84) -> 148
B18: =G8 -> 0.35 | C18: =TEAMS!E2 -> Dainton | D18: =TEAMS!A12 -> Derrick Singleton | E18: =TEAMS!B12 -> 18.5 | F18: =E18*$G$3/113+($G$4-$G$5) -> 17.763717 | G18: =IF((ROUND(F18*0.85,0))>=24,24,(ROUND(F18*0.85,0))) -> 15 | H18: 42 | J18: =G8 -> 0.35 | K18: =TEAMS!E3 -> Churston | L18: =TEAMS!E12 -> Garry White | M18: =TEAMS!F12 -> 11.1 | N18: =M18*$G$3/113+($G$4-$G$5) -> 10.29823 | O18: =IF((ROUND(N18*0.85,0))>=24,24,(ROUND(N18*0.85,0))) -> 9 | P18: 35
D19: =TEAMS!A13 -> Patrick Hastings | E19: =TEAMS!B13 -> 16.7 | F19: =E19*$G$3/113+($G$4-$G$5) -> 15.947788 | G19: =IF((ROUND(F19*0.85,0))>=24,24,(ROUND(F19*0.85,0))) -> 14 | L19: =TEAMS!E13 -> Gary Chadwick | M19: =TEAMS!F13 -> 8.7 | N19: =M19*$G$3/113+($G$4-$G$5) -> 7.8769912 | O19: =IF((ROUND(N19*0.85,0))>=24,24,(ROUND(N19*0.85,0))) -> 7
B20: =B18+TIME(0,$G$9,0) -> 0.35625 | C20: =TEAMS!E4 -> Teignmouth | D20: =TEAMS!I12 -> John Richardson | E20: =TEAMS!J12 -> 16.2 | F20: =E20*$G$3/113+($G$4-$G$5) -> 15.443363 | G20: =IF((ROUND(F20*0.85,0))>=24,24,(ROUND(F20*0.85,0))) -> 13 | H20: 36 | J20: =J18+TIME(0,$G$9,0) -> 0.35625 | K20: =TEAMS!E5 -> Dartmouth | L20: =TEAMS!M12 -> Trevor Pretty | M20: =TEAMS!N12 -> 19.2 | N20: =M20*$G$3/113+($G$4-$G$5) -> 18.469912 | O20: =IF((ROUND(N20*0.85,0))>=24,24,(ROUND(N20*0.85,0))) -> 16 | P20: 34
D21: =TEAMS!I13 -> Keith Perkin | E21: =TEAMS!J13 -> 13.1 | F21: =E21*$G$3/113+($G$4-$G$5) -> 12.315929 | G21: =IF((ROUND(F21*0.85,0))>=24,24,(ROUND(F21*0.85,0))) -> 10 | L21: =TEAMS!M13 -> Nigel Osborne | M21: =TEAMS!N13 -> 23.7 | N21: =M21*$G$3/113+($G$4-$G$5) -> 23.009735 | O21: =IF((ROUND(N21*0.85,0))>=24,24,(ROUND(N21*0.85,0))) -> 20
B22: =B20+TIME(0,$G$9,0) -> 0.3625 | C22: =TEAMS!E6 -> Bovey Tracey | D22: =TEAMS!A23 -> NIGEL MILLMAN | E22: =TEAMS!B23 -> 16 | F22: =E22*$G$3/113+($G$4-$G$5) -> 15.241593 | G22: =IF((ROUND(F22*0.85,0))>=24,24,(ROUND(F22*0.85,0))) -> 13 | H22: 36 | J22: =J20+TIME(0,$G$9,0) -> 0.3625 | K22: =TEAMS!E7 -> East Devon | L22: =TEAMS!E23 -> Bovey to 10:03 | M22: =TEAMS!F23 -> 0 | N22: =M22*$G$3/113+($G$4-$G$5) -> -0.9 | O22: =IF((ROUND(N22*0.85,0))>=24,24,(ROUND(N22*0.85,0))) -> -1 | P22: 0
D23: =TEAMS!A24 -> PAUL NOSWORTHY | E23: =TEAMS!B24 -> 17.2 | F23: =E23*$G$3/113+($G$4-$G$5) -> 16.452212 | G23: =IF((ROUND(F23*0.85,0))>=24,24,(ROUND(F23*0.85,0))) -> 14 | L23: =TEAMS!E24 -> Bovey to 10:03 | M23: =TEAMS!F24 -> 0 | N23: =M23*$G$3/113+($G$4-$G$5) -> -0.9 | O23: =IF((ROUND(N23*0.85,0))>=24,24,(ROUND(N23*0.85,0))) -> -1
B24: =B22+TIME(0,$G$9,0) -> 0.36875 | C24: =TEAMS!I2 -> Woodbury | D24: =TEAMS!I23 -> John Man | E24: =TEAMS!J23 -> 21 | F24: =E24*$G$3/113+($G$4-$G$5) -> 20.285841 | G24: =IF((ROUND(F24*0.85,0))>=24,24,(ROUND(F24*0.85,0))) -> 17 | H24: 40 | J24: =J22+TIME(0,$G$9,0) -> 0.36875 | K24: =TEAMS!I3 -> Thurleston | L24: =TEAMS!M23 -> Jim Stewart | M24: =TEAMS!N23 -> 9.2 | N24: =M24*$G$3/113+($G$4-$G$5) -> 8.3814159 | O24: =IF((ROUND(N24*0.85,0))>=24,24,(ROUND(N24*0.85,0))) -> 7 | P24: 35
D25: =TEAMS!I24 -> Phil Harvey | E25: =TEAMS!J24 -> 18.9 | F25: =E25*$G$3/113+($G$4-$G$5) -> 18.167257 | G25: =IF((ROUND(F25*0.85,0))>=24,24,(ROUND(F25*0.85,0))) -> 15 | L25: =TEAMS!M24 -> Simon Davey | M25: =TEAMS!N24 -> 9.7 | N25: =M25*$G$3/113+($G$4-$G$5) -> 8.8858407 | O25: =IF((ROUND(N25*0.85,0))>=24,24,(ROUND(N25*0.85,0))) -> 8
B26: =B24+TIME(0,$G$9,0) -> 0.375 | C26: =TEAMS!I4 -> Bigbury | D26: =TEAMS!A34 -> Steve Ryder | E26: =TEAMS!B34 -> 7.6 | F26: =E26*$G$3/113+($G$4-$G$5) -> 6.7672566 | G26: =IF((ROUND(F26*0.85,0))>=24,24,(ROUND(F26*0.85,0))) -> 6 | H26: 36 | J26: =J24+TIME(0,$G$9,0) -> 0.375 | K26: =TEAMS!I5 -> Crediton | L26: =TEAMS!E34 -> Andy Rogers | M26: =TEAMS!F34 -> 16.9 | N26: =M26*$G$3/113+($G$4-$G$5) -> 16.149558 | O26: =IF((ROUND(N26*0.85,0))>=24,24,(ROUND(N26*0.85,0))) -> 14 | P26: 36
D27: =TEAMS!A35 -> Roger Hurrell | E27: =TEAMS!B35 -> 10.5 | F27: =E27*$G$3/113+($G$4-$G$5) -> 9.6929204 | G27: =IF((ROUND(F27*0.85,0))>=24,24,(ROUND(F27*0.85,0))) -> 8 | L27: =TEAMS!E35 -> Gerry Hodder | M27: =TEAMS!F35 -> 15.5 | N27: =M27*$G$3/113+($G$4-$G$5) -> 14.737168 | O27: =IF((ROUND(N27*0.85,0))>=24,24,(ROUND(N27*0.85,0))) -> 13
B28: =B26+TIME(0,$G$9,0) -> 0.38125 | C28: =TEAMS!I6 -> Staddon Heights | D28: =TEAMS!I34 -> Andy Griffiths | E28: =TEAMS!J34 -> 5.6 | F28: =E28*$G$3/113+($G$4-$G$5) -> 4.7495575 | G28: =IF((ROUND(F28*0.85,0))>=24,24,(ROUND(F28*0.85,0))) -> 4 | H28: 37 | J28: =J26+TIME(0,$G$9,0) -> 0.38125 | K28: =TEAMS!I7 -> Yelverton | L28: =TEAMS!M34 -> Blaber, Kevin | M28: =TEAMS!N34 -> 4.1 | N28: =M28*$G$3/113+($G$4-$G$5) -> 3.2362832 | O28: =IF((ROUND(N28*0.85,0))>=24,24,(ROUND(N28*0.85,0))) -> 3 | P28: 40
D29: =TEAMS!I35 -> Gary Chapman | E29: =TEAMS!J35 -> 13.7 | F29: =E29*$G$3/113+($G$4-$G$5) -> 12.921239 | G29: =IF((ROUND(F29*0.85,0))>=24,24,(ROUND(F29*0.85,0))) -> 11 | L29: =TEAMS!M35 -> Peter Wright | M29: =TEAMS!N35 -> 23.5 | N29: =M29*$G$3/113+($G$4-$G$5) -> 22.807965 | O29: =IF((ROUND(N29*0.85,0))>=24,24,(ROUND(N29*0.85,0))) -> 19
B30: =B28+TIME(0,$G$9,0) -> 0.3875 | C30: =TEAMS!M2 -> Tavistock | D30: =TEAMS!A45 -> Trevor Smith | E30: =TEAMS!B45 -> 14.6 | F30: =E30*$G$3/113+($G$4-$G$5) -> 13.829204 | G30: =IF((ROUND(F30*0.85,0))>=24,24,(ROUND(F30*0.85,0))) -> 12 | H30: 37 | J30: =J28+TIME(0,$G$9,0) -> 0.3875 | K30: =TEAMS!M3 -> Honiton | L30: =TEAMS!E45 -> Brian Thompson | M30: =TEAMS!F45 -> 12.2 | N30: =M30*$G$3/113+($G$4-$G$5) -> 11.407965 | O30: =IF((ROUND(N30*0.85,0))>=24,24,(ROUND(N30*0.85,0))) -> 10 | P30: 41
D31: =TEAMS!A46 -> Chris Bravery | E31: =TEAMS!B46 -> 16.3 | F31: =E31*$G$3/113+($G$4-$G$5) -> 15.544248 | G31: =IF((ROUND(F31*0.85,0))>=24,24,(ROUND(F31*0.85,0))) -> 13 | L31: =TEAMS!E46 -> Sinom Ruben | M31: =TEAMS!F46 -> 13.7 | N31: =M31*$G$3/113+($G$4-$G$5) -> 12.921239 | O31: =IF((ROUND(N31*0.85,0))>=24,24,(ROUND(N31*0.85,0))) -> 11
B32: =B30+TIME(0,$G$9,0) -> 0.39375 | C32: =TEAMS!M4 -> Bovey Castle | D32: =TEAMS!I45 -> Neville Wilkinson | E32: =TEAMS!J45 -> 15.6 | F32: =E32*$G$3/113+($G$4-$G$5) -> 14.838053 | G32: =IF((ROUND(F32*0.85,0))>=24,24,(ROUND(F32*0.85,0))) -> 13 | H32: 40 | J32: =J30+TIME(0,$G$9,0) -> 0.39375 | K32: =TEAMS!M5 -> Tiverton | L32: =TEAMS!M45 -> Ray Pratt | M32: =TEAMS!N45 -> 13.7 | N32: =M32*$G$3/113+($G$4-$G$5) -> 12.921239 | O32: =IF((ROUND(N32*0.85,0))>=24,24,(ROUND(N32*0.85,0))) -> 11 | P32: 37
D33: =TEAMS!I46 -> Simon Brundan | E33: =TEAMS!J46 -> 14 | F33: =E33*$G$3/113+($G$4-$G$5) -> 13.223894 | G33: =IF((ROUND(F33*0.85,0))>=24,24,(ROUND(F33*0.85,0))) -> 11 | L33: =TEAMS!M46 -> Barry Grommett | M33: =TEAMS!N46 -> 19 | N33: =M33*$G$3/113+($G$4-$G$5) -> 18.268142 | O33: =IF((ROUND(N33*0.85,0))>=24,24,(ROUND(N33*0.85,0))) -> 16
B34: =B32+TIME(0,$G$9,0) -> 0.4 | C34: =TEAMS!M6 -> Exeter | D34: =TEAMS!A56 -> Crouch Mark | E34: =TEAMS!B56 -> 7.1 | F34: =E34*$G$3/113+($G$4-$G$5) -> 6.2628319 | G34: =IF((ROUND(F34*0.85,0))>=24,24,(ROUND(F34*0.85,0))) -> 5 | H34: 38 | J34: =J32+TIME(0,$G$9,0) -> 0.4 | K34: =TEAMS!E2 -> Dainton | L34: =TEAMS!A14 -> Mike Lang | M34: =TEAMS!B14 -> 8.1 | N34: =M34*$G$3/113+($G$4-$G$5) -> 7.2716814 | O34: =IF((ROUND(N34*0.85,0))>=24,24,(ROUND(N34*0.85,0))) -> 6 | P34: 40
D35: =TEAMS!A57 -> Sheldon Steve | E35: =TEAMS!B57 -> 11.4 | F35: =E35*$G$3/113+($G$4-$G$5) -> 10.600885 | G35: =IF((ROUND(F35*0.85,0))>=24,24,(ROUND(F35*0.85,0))) -> 9 | L35: =TEAMS!A15 -> Andy Smith | M35: =TEAMS!B15 -> 13 | N35: =M35*$G$3/113+($G$4-$G$5) -> 12.215044 | O35: =IF((ROUND(N35*0.85,0))>=24,24,(ROUND(N35*0.85,0))) -> 10
B36: =B34+TIME(0,$G$9,0) -> 0.40625 | C36: =TEAMS!E3 -> Churston | D36: =TEAMS!E14 -> Clive Legg | E36: =TEAMS!F14 -> 7.9 | F36: =E36*$G$3/113+($G$4-$G$5) -> 7.0699115 | G36: =IF((ROUND(F36*0.85,0))>=24,24,(ROUND(F36*0.85,0))) -> 6 | H36: 38 | J36: =J34+TIME(0,$G$9,0) -> 0.40625 | K36: =TEAMS!E4 -> Teignmouth | L36: =TEAMS!I14 -> Robert Collier | M36: =TEAMS!J13 -> 13.1 | N36: =M36*$G$3/113+($G$4-$G$5) -> 12.315929 | O36: =IF((ROUND(N36*0.85,0))>=24,24,(ROUND(N36*0.85,0))) -> 10 | P36: 44
D37: =TEAMS!E15 -> Royston Fox | E37: =TEAMS!F15 -> 16.7 | F37: =E37*$G$3/113+($G$4-$G$5) -> 15.947788 | G37: =IF((ROUND(F37*0.85,0))>=24,24,(ROUND(F37*0.85,0))) -> 14 | L37: =TEAMS!I15 -> Derrick King | M37: =TEAMS!J14 -> 10.4 | N37: =M37*$G$3/113+($G$4-$G$5) -> 9.5920354 | O37: =IF((ROUND(N37*0.85,0))>=24,24,(ROUND(N37*0.85,0))) -> 8
B38: =B36+TIME(0,$G$9,0) -> 0.4125 | C38: =TEAMS!E5 -> Dartmouth | D38: =TEAMS!M14 -> Paul Marels | E38: =TEAMS!N14 -> 7.4 | F38: =E38*$G$3/113+($G$4-$G$5) -> 6.5654867 | G38: =IF((ROUND(F38*0.85,0))>=24,24,(ROUND(F38*0.85,0))) -> 6 | H38: 38 | J38: =J36+TIME(0,$G$9,0) -> 0.4125 | K38: =TEAMS!E6 -> Bovey Tracey | L38: =TEAMS!A25 -> GARY RUTTER | M38: =TEAMS!B25 -> 14.7 | N38: =M38*$G$3/113+($G$4-$G$5) -> 13.930088 | O38: =IF((ROUND(N38*0.85,0))>=24,24,(ROUND(N38*0.85,0))) -> 12 | P38: 38
D39: =TEAMS!M15 -> Malcolm Barrett | E39: =TEAMS!N15 -> 15.8 | F39: =E39*$G$3/113+($G$4-$G$5) -> 15.039823 | G39: =IF((ROUND(F39*0.85,0))>=24,24,(ROUND(F39*0.85,0))) -> 13 | L39: =TEAMS!A26 -> MARTYN SQUIRES | M39: =TEAMS!B26 -> 15.8 | N39: =M39*$G$3/113+($G$4-$G$5) -> 15.039823 | O39: =IF((ROUND(N39*0.85,0))>=24,24,(ROUND(N39*0.85,0))) -> 13
B40: =B38+TIME(0,$G$9,0) -> 0.41875 | C40: =TEAMS!E7 -> East Devon | D40: =TEAMS!E25 -> NIGEL MILLMAN from 8:23 | E40: =TEAMS!F25 -> 0 | F40: =E40*$G$3/113+($G$4-$G$5) -> -0.9 | G40: =IF((ROUND(F40*0.85,0))>=24,24,(ROUND(F40*0.85,0))) -> -1 | H40: 0 | J40: =J38+TIME(0,$G$9,0) -> 0.41875 | K40: =TEAMS!I2 -> Woodbury | L40: =TEAMS!I25 -> Jeff Perry | M40: =TEAMS!J25 -> 17.5 | N40: =M40*$G$3/113+($G$4-$G$5) -> 16.754867 | O40: =IF((ROUND(N40*0.85,0))>=24,24,(ROUND(N40*0.85,0))) -> 14 | P40: 40
D41: =TEAMS!E26 -> PAUL NOSWORTHY from 8:23 | E41: =TEAMS!F26 -> 0 | F41: =E41*$G$3/113+($G$4-$G$5) -> -0.9 | G41: =IF((ROUND(F41*0.85,0))>=24,24,(ROUND(F41*0.85,0))) -> -1 | L41: =TEAMS!I26 -> Dave Buss | M41: =TEAMS!J26 -> 15.7 | N41: =M41*$G$3/113+($G$4-$G$5) -> 14.938938 | O41: =IF((ROUND(N41*0.85,0))>=24,24,(ROUND(N41*0.85,0))) -> 13
B42: =B40+TIME(0,$G$9,0) -> 0.425 | C42: =TEAMS!I3 -> Thurleston | D42: =TEAMS!M25 -> Graham Fairley | E42: =TEAMS!N25 -> 8.7 | F42: =E42*$G$3/113+($G$4-$G$5) -> 7.8769912 | G42: =IF((ROUND(F42*0.85,0))>=24,24,(ROUND(F42*0.85,0))) -> 7 | H42: 34 | J42: =J40+TIME(0,$G$9,0) -> 0.425 | K42: =TEAMS!I4 -> Bigbury | L42: =TEAMS!A36 -> Keith Naylor | M42: =TEAMS!B36 -> 8.8 | N42: =M42*$G$3/113+($G$4-$G$5) -> 7.9778761 | O42: =IF((ROUND(N42*0.85,0))>=24,24,(ROUND(N42*0.85,0))) -> 7 | P42: 37
D43: =TEAMS!M26 -> David Hook | E43: =TEAMS!N26 -> 13.1 | F43: =E43*$G$3/113+($G$4-$G$5) -> 12.315929 | G43: =IF((ROUND(F43*0.85,0))>=24,24,(ROUND(F43*0.85,0))) -> 10 | L43: =TEAMS!A37 -> Roger Edwards | M43: =TEAMS!B37 -> 12.9 | N43: =M43*$G$3/113+($G$4-$G$5) -> 12.114159 | O43: =IF((ROUND(N43*0.85,0))>=24,24,(ROUND(N43*0.85,0))) -> 10
B44: =B42+TIME(0,$G$9,0) -> 0.43125 | C44: =TEAMS!I5 -> Crediton | D44: =TEAMS!E36 -> Jim Dunlop | E44: =TEAMS!F36 -> 11.3 | F44: =E44*$G$3/113+($G$4-$G$5) -> 10.5 | G44: =IF((ROUND(F44*0.85,0))>=24,24,(ROUND(F44*0.85,0))) -> 9 | H44: 38 | J44: =J42+TIME(0,$G$9,0) -> 0.43125 | K44: =TEAMS!I6 -> Staddon Heights | L44: =TEAMS!I36 -> Nigel Keeler | M44: =TEAMS!J36 -> 8.9 | N44: =M44*$G$3/113+($G$4-$G$5) -> 8.0787611 | O44: =IF((ROUND(N44*0.85,0))>=24,24,(ROUND(N44*0.85,0))) -> 7 | P44: 37
...
